BEGIN:VCALENDAR
VERSION:2.0
PRODID:-//urwahl3000//gruene-lindenfels.de//DE
CALSCALE:GREGORIAN
BEGIN:VEVENT
DTSTART:20170115T124500
DTEND:20170115T124500
LOCATION:Drachenhöhle Lindenfels
DTSTAMP:20170115T124500
SUMMARY:Grüne Winterwanderung im Weißen
URL;VALUE=URI:https://gruene-lindenfels.de/termin/gruene-winterwanderung-im-weissen-termin/
DESCRIPTION:Der Grüne Stadtverband trifft sich am 15.1. um 12:45 Uhr, nach dem Neujahrsempfang der Stadt Lindenfels, zum Essen in der Drachenhöhle. Der Bundestagskandidat der Grünen vom Kreis Bergstraße Moritz Müller wird auch mit dabei sein und ist gespannt auf viel interessante Fragen und Gespräche.

Im Anschluss ist eine Winterwanderung im Schenkenberg und Buch geplant, um die schöne Winterlandschaft zu genießen.
UID:20170115T124500-20170115T124500-20170115T124500
END:VEVENT
END:VCALENDAR