BEGIN:VCALENDAR
VERSION:2.0
PRODID:-//urwahl3000//gruene-lindenfels.de//DE
CALSCALE:GREGORIAN
BEGIN:VEVENT
DTSTART:20210201T000000
DTEND:20210201T000000
LOCATION: 
DTSTAMP:20210201T000000
SUMMARY:Briefwahl
URL;VALUE=URI:https://gruene-lindenfels.de/termin/briefwahl/
DESCRIPTION:Am 1. Februar beginnt die Ausgabe der Briefwahlunterlagen durch die Stadt. Nutze gerade in Coronazeiten diese Möglichkeit, um Deine Stimme abzugeben.
UID:20210201T000000-20210201T000000-20210201T000000
END:VEVENT
END:VCALENDAR